BEGIN:VCALENDAR
VERSION:2.0
PRODID:-//Cleveland Research Company - ECPv6.15.19//NONSGML v1.0//EN
CALSCALE:GREGORIAN
METHOD:PUBLISH
X-WR-CALNAME:Cleveland Research Company
X-ORIGINAL-URL:https://www.clevelandresearch.com
X-WR-CALDESC:Events for Cleveland Research Company
REFRESH-INTERVAL;VALUE=DURATION:PT1H
X-Robots-Tag:noindex
X-PUBLISHED-TTL:PT1H
BEGIN:VTIMEZONE
TZID:UTC
BEGIN:STANDARD
TZOFFSETFROM:+0000
TZOFFSETTO:+0000
TZNAME:UTC
DTSTART:20250101T000000
END:STANDARD
END:VTIMEZONE
BEGIN:VEVENT
DTSTART;TZID=UTC:20260813T080000
DTEND;TZID=UTC:20260813T170000
DTSTAMP:20260421T083821
CREATED:20260301T194921Z
LAST-MODIFIED:20260324T192021Z
UID:10000069-1786608000-1786640400@www.clevelandresearch.com
SUMMARY:2026 eCommerce Summit
DESCRIPTION:CRC’s annual eCommerce Summit is back to the bay this August for our 13th installment featuring the future of digital commerce. \nNext gen eCommerce demands sharper signals and fewer distractions. \nAs digital channels evolve\, AI accelerates decision-making\, and investment dollars come under greater scrutiny\, leaders are facing more data\, more platforms\, and more noise than ever before. The 2026 eCommerce Summit brings together CRC insights\, real-world benchmarks\, and forward-looking perspectives to help brands and retailers cut through complexity\, identify what truly matters\, and focus on the strategies driving sustainable growth and market share in the year ahead. \nJoin top manufacturer and supplier brands\, industry thought leaders\, and CRC’s expert analysts as we take on next gen eCommerce and step into the future of digital commerce. \n  \nRESHAPING DIGITAL COMMERCE \nAbout the Event\nCRC’s annual eCommerce Summit is a live in-person event hosted in San Diego\, CA. Our two-day show is designed for impact\, blending fresh ideas\, practical education\, and purposeful networking. Expect a full day of panels\, presentations\, and one-on-one conversations across eCommerce strategy\, marketing\, operations\, supply chain\, social\, and beyond. \n  \nCUTTING EDGE CONTENT \nWhy Attend\nNext gen eCommerce demands clarity. Connect with top brands\, service providers\, and CRC analysts as we break down the trends redefining Amazon\, omnichannel retail\, and digital innovation. Expect real insights\, candid conversations\, and a space designed for brands to learn\, collaborate\, and move faster. \n  \nDESTINATION: SUNNY SO CAL \nSummit Venue\nHosted at the Hilton San Diego Bayfront\, this year’s Summit unfolds against a striking waterfront backdrop in the heart of San Diego. Overlooking the bay and steps from downtown\, the venue blends modern design with laid-back coastal energy creating the ideal vibe for connection\, collaboration\, and conversations. \nHilton Bayfront\n1 Park Blvd\nSan Diego\, CA 92101 \n  \nMORE INFORMATION TO BE ANNOUNCED \nAgenda\, Speakers & Additional Details Coming Soon
URL:https://www.clevelandresearch.com/event/ecommerce-summit/
LOCATION:Hilton San Diego Bayfront\, One Park Boulevard\, San Diego\, CA\, 92101\, United States
CATEGORIES:Conference
ATTACH;FMTTYPE=image/jpeg:https://www.clevelandresearch.com/wp-content/uploads/2026/02/2026-eCommerce-Summit-ticket.jpg
END:VEVENT
BEGIN:VEVENT
DTSTART;TZID=UTC:20260827T080000
DTEND;TZID=UTC:20260827T170000
DTSTAMP:20260421T083821
CREATED:20260311T001640Z
LAST-MODIFIED:20260410T170733Z
UID:10000070-1787817600-1787850000@www.clevelandresearch.com
SUMMARY:2026 Foodservice Forum
DESCRIPTION:CRC’s Foodservice Forum returns to Cleveland this August\, bringing together leaders across the traditional foodservice ecosystem to discuss the forces shaping growth across restaurants\, non-commercial\, and distribution. \nDesigned for sales\, marketing\, and insights leaders at foodservice manufacturer/supplier companies\, the Foodservice Forum equips attendees with the clarity and direction needed to stay ahead and help drive growth in 2026 and beyond. \nMake the most of your visit by arriving early for our welcome networking reception on Wednesday\, August 26 at Progressive Field\, the home of the Cleveland Guardians. Enjoy an exclusive ballpark tour\, connect with industry peers\, and kick off the event with meaningful conversations before the main stage begins. \nRECIPE FOR FOODSERVICE GROWTH\nAbout the Event\nAs AI’s role grows in the sector\, consumer expectations continue to evolve\, and regulatory shifts redefine operating realities\, confident planning starts with timely\, impactful insight. This year’s Forum brings you exclusive perspectives from CRC analysts and leading industry voices\, delivering actionable items you can put to work immediately. \nExpert Insight. Built for Action.\nCRC’s Foodservice Forum is grounded in rigorous research and delivered by industry-leading analysts who understand the pressures shaping today’s foodservice landscape. Every session is curated to ensure you leave with clear priorities\, sharper positioning\, and strategies ready for execution. \nWe look forward to welcoming you to Cleveland. \nCUTTING EDGE CONTENT\nWhy Attend\nCommercial Restaurant Trends\nTraffic vs. menu pricing\, innovation\, value promotions\, and what’s working across chain segments \nNon-Commercial Foodservice Insights\nKey opportunities and watch outs across non-commercial segments and the big 3 contract management companies \nFoodservice Distribution Dynamics\nPerformance\, outlook\, strategic initiatives\, and market share shifts across the big 3 broadline distributors \nHot Supplier Topics\nHow regulatory changes\, AI technology\, and health trends are impacting the food-away-from home landscape \nTHE HEART OF ROCK ‘N ROLL\nForum Venue\nCRC is excited to welcome the foodservice community back to Cleveland for this year’s forum. Known for its vibrant downtown\, award-winning restaurants\, and walkable waterfront\, Cleveland provides the perfect backdrop for industry leaders to gather\, share insights\, and build connections. \nHilton Cleveland Downtown\n100 Lakeside Ave E\nCleveland\, OH 44114 \nCheck back soon for the agenda and more updates…
URL:https://www.clevelandresearch.com/event/foodservice-forum/
LOCATION:Hilton Cleveland Downtown\, 100 Lakeside Ave E\, Cleveland\, OH\, 44114\, United States
ATTACH;FMTTYPE=image/jpeg:https://www.clevelandresearch.com/wp-content/uploads/2026/03/2026-Foodservice-Forum-web-ticket-hero.jpg
END:VEVENT
END:VCALENDAR